BEGIN:VCALENDAR
VERSION:2.0
PRODID:-//TUSCULUM UNIVERSITY - ECPv5.16.1.1//NONSGML v1.0//EN
CALSCALE:GREGORIAN
METHOD:PUBLISH
X-WR-CALNAME:TUSCULUM UNIVERSITY
X-ORIGINAL-URL:https://site.tusculum.edu
X-WR-CALDESC:Events for TUSCULUM UNIVERSITY
REFRESH-INTERVAL;VALUE=DURATION:PT1H
X-Robots-Tag:noindex
X-PUBLISHED-TTL:PT1H
BEGIN:VTIMEZONE
TZID:America/New_York
BEGIN:DAYLIGHT
TZOFFSETFROM:-0500
TZOFFSETTO:-0400
TZNAME:EDT
DTSTART:20230312T070000
END:DAYLIGHT
BEGIN:STANDARD
TZOFFSETFROM:-0400
TZOFFSETTO:-0500
TZNAME:EST
DTSTART:20231105T060000
END:STANDARD
END:VTIMEZONE
BEGIN:VEVENT
DTSTART;TZID=America/New_York:20231108T080000
DTEND;TZID=America/New_York:20231108T170000
DTSTAMP:20260423T223324
CREATED:20231004T194603Z
LAST-MODIFIED:20231004T194627Z
UID:16584-1699430400-1699462800@site.tusculum.edu
SUMMARY:First-Generation Celebration Day
DESCRIPTION:
URL:https://site.tusculum.edu/tuevents/first-generation-celebration-day/
LOCATION:Thomas Garland Library
END:VEVENT
BEGIN:VEVENT
DTSTART;TZID=America/New_York:20231111T113000
DTEND;TZID=America/New_York:20231111T123000
DTSTAMP:20260423T223324
CREATED:20231024T125908Z
LAST-MODIFIED:20231024T125908Z
UID:16725-1699702200-1699705800@site.tusculum.edu
SUMMARY:Chamber of Commerce Day
DESCRIPTION:
URL:https://site.tusculum.edu/tuevents/chamber-of-commerce-day/
LOCATION:Welcome Center
END:VEVENT
END:VCALENDAR